BEGIN:VCALENDAR
VERSION:2.0
METHOD:REQUEST
PRODID:-//BookedScheduler//NONSGML //EN
BEGIN:VEVENT
CLASS:PUBLIC
CREATED:20260410T164302Z
DESCRIPTION:Galyna Shul
DTSTAMP:20260410T164302Z
DTSTART:20260420T193000Z
DTEND:20260423T140000Z
LAST-MODIFIED:20260410T164302Z
LOCATION:Four Tubulaire HT | CB-3485
ORGANIZER;CN=Maintenance NanoQAM:MAILTO:nanoqam@uqam.ca
STATUS:CONFIRMED
SUMMARY:Galyna Shul
UID:69d92896ccb26300901470&nanoqam.ca
SEQUENCE:0
URL:http://nanoqam.ca/booked/Web/reservation.php?rn=69d92896ccb26300901470
X-MICROSOFT-CDO-BUSYSTATUS:BUSY
END:VEVENT

END:VCALENDAR