BEGIN:VCALENDAR
VERSION:2.0
METHOD:REQUEST
PRODID:-//BookedScheduler//NONSGML //EN
BEGIN:VEVENT
CLASS:PUBLIC
CREATED:20260319T132005Z
DESCRIPTION:Jacqueline CHI-3710
DTSTAMP:20260319T132005Z
DTSTART:20260421T143000Z
DTEND:20260421T200000Z
LAST-MODIFIED:20260319T132115Z
LOCATION:Microscope Raman | CB-3915
ORGANIZER;CN=Enseignement Chimie:MAILTO:dep_chimie@uqam.ca
STATUS:CONFIRMED
SUMMARY:Jacqueline CHI-3710
UID:69bbf84b1cebd315916231&nanoqam.ca
SEQUENCE:0
URL:http://nanoqam.ca/booked/Web/reservation.php?rn=69bbf84b1cebd315916231
X-MICROSOFT-CDO-BUSYSTATUS:BUSY
END:VEVENT
BEGIN:VEVENT
CLASS:PUBLIC
CREATED:20260419T163620Z
DESCRIPTION:Shieh Hamed
DTSTAMP:20260419T163620Z
DTSTART:20260421T203000Z
DTEND:20260422T000000Z
LAST-MODIFIED:20260419T163620Z
LOCATION:Microscope Raman | CB-3915
ORGANIZER;CN=Laboratoire Mahshid:MAILTO:ara.mahshid@mcgill.ca
STATUS:CONFIRMED
SUMMARY:Shieh Hamed
UID:69e50484598e9603938596&nanoqam.ca
SEQUENCE:0
URL:http://nanoqam.ca/booked/Web/reservation.php?rn=69e50484598e9603938596
X-MICROSOFT-CDO-BUSYSTATUS:BUSY
END:VEVENT
BEGIN:VEVENT
CLASS:PUBLIC
CREATED:20260408T151030Z
DESCRIPTION:Gwenael Chamoulaud
DTSTAMP:20260408T151030Z
DTSTART:20260422T133000Z
DTEND:20260422T193000Z
LAST-MODIFIED:20260408T154411Z
LOCATION:Microscope Raman | CB-3915
ORGANIZER;CN=Maintenance NanoQAM:MAILTO:nanoqam@uqam.ca
STATUS:CONFIRMED
SUMMARY:Gwenael Chamoulaud
UID:69d66fe6acb42898482538&nanoqam.ca
SEQUENCE:0
URL:http://nanoqam.ca/booked/Web/reservation.php?rn=69d66fe6acb42898482538
X-MICROSOFT-CDO-BUSYSTATUS:BUSY
END:VEVENT
BEGIN:VEVENT
CLASS:PUBLIC
CREATED:20260420T180600Z
DESCRIPTION:Yueru Zhou
DTSTAMP:20260420T180600Z
DTSTART:20260422T194500Z
DTEND:20260422T210000Z
LAST-MODIFIED:20260420T180600Z
LOCATION:Microscope Raman | CB-3915
ORGANIZER;CN=Laboratoire Mahshid:MAILTO:ara.mahshid@mcgill.ca
STATUS:CONFIRMED
SUMMARY:Yueru Zhou
UID:69e66b0855956423244157&nanoqam.ca
SEQUENCE:0
URL:http://nanoqam.ca/booked/Web/reservation.php?rn=69e66b0855956423244157
X-MICROSOFT-CDO-BUSYSTATUS:BUSY
END:VEVENT
BEGIN:VEVENT
CLASS:PUBLIC
CREATED:20260410T132942Z
DESCRIPTION:Kuster Lucille
DTSTAMP:20260410T132942Z
DTSTART:20260423T133000Z
DTEND:20260423T163000Z
LAST-MODIFIED:20260410T132942Z
LOCATION:Microscope Raman | CB-3915
ORGANIZER;CN=Laboratoire Frenette:MAILTO:frenette.mathieu@uqam.ca
STATUS:CONFIRMED
SUMMARY:Kuster Lucille
UID:69d8fb46cdcad242771118&nanoqam.ca
SEQUENCE:0
URL:http://nanoqam.ca/booked/Web/reservation.php?rn=69d8fb46cdcad242771118
X-MICROSOFT-CDO-BUSYSTATUS:BUSY
END:VEVENT
BEGIN:VEVENT
CLASS:PUBLIC
CREATED:20260413T185157Z
DESCRIPTION:Gwenael Chamoulaud
DTSTAMP:20260413T185157Z
DTSTART:20260423T173000Z
DTEND:20260423T190000Z
LAST-MODIFIED:20260413T185157Z
LOCATION:Microscope Raman | CB-3915
ORGANIZER;CN=Maintenance NanoQAM:MAILTO:nanoqam@uqam.ca
STATUS:CONFIRMED
SUMMARY:Gwenael Chamoulaud
UID:69dd3b4d711ae799417636&nanoqam.ca
SEQUENCE:0
URL:http://nanoqam.ca/booked/Web/reservation.php?rn=69dd3b4d711ae799417636
X-MICROSOFT-CDO-BUSYSTATUS:BUSY
END:VEVENT
BEGIN:VEVENT
CLASS:PUBLIC
CREATED:20260416T170958Z
DESCRIPTION:Lucille Kuster
DTSTAMP:20260416T170958Z
DTSTART:20260429T140000Z
DTEND:20260429T163000Z
LAST-MODIFIED:20260416T170958Z
LOCATION:Microscope Raman | CB-3915
ORGANIZER;CN=Laboratoire Frenette:MAILTO:frenette.mathieu@uqam.ca
STATUS:CONFIRMED
SUMMARY:Lucille Kuster
UID:69e117e642ba1484974388&nanoqam.ca
SEQUENCE:0
URL:http://nanoqam.ca/booked/Web/reservation.php?rn=69e117e642ba1484974388
X-MICROSOFT-CDO-BUSYSTATUS:BUSY
END:VEVENT

END:VCALENDAR