BEGIN:VCALENDAR
VERSION:2.0
METHOD:REQUEST
PRODID:-//BookedScheduler//NONSGML //EN
BEGIN:VEVENT
CLASS:PUBLIC
CREATED:20260320T124326Z
DESCRIPTION:Jacqueline CHI-3710
DTSTAMP:20260320T124326Z
DTSTART:20260421T140000Z
DTEND:20260421T200000Z
LAST-MODIFIED:20260320T124326Z
LOCATION:Diffraction des Rayons X | PK-2370
ORGANIZER;CN=Enseignement Chimie:MAILTO:dep_chimie@uqam.ca
STATUS:CONFIRMED
SUMMARY:Jacqueline CHI-3710
UID:69bd40eea8d10771932243&nanoqam.ca
SEQUENCE:0
URL:http://nanoqam.ca/booked/Web/reservation.php?rn=69bd40eea8d10771932243
X-MICROSOFT-CDO-BUSYSTATUS:BUSY
END:VEVENT
BEGIN:VEVENT
CLASS:PUBLIC
CREATED:20260414T193828Z
DESCRIPTION:Gwenael Chamoulaud
DTSTAMP:20260414T193828Z
DTSTART:20260422T123000Z
DTEND:20260422T170000Z
LAST-MODIFIED:20260414T194204Z
LOCATION:Diffraction des Rayons X | PK-2370
ORGANIZER;CN=Laboratoire Schougaard:MAILTO:schougaard.steen@uqam.ca
STATUS:CONFIRMED
SUMMARY:Gwenael Chamoulaud
UID:69de97b472b33703170269&nanoqam.ca
SEQUENCE:0
URL:http://nanoqam.ca/booked/Web/reservation.php?rn=69de97b472b33703170269
X-MICROSOFT-CDO-BUSYSTATUS:BUSY
END:VEVENT
BEGIN:VEVENT
CLASS:PUBLIC
CREATED:20260416T121556Z
DESCRIPTION:Gwenael Chamoulaud
DTSTAMP:20260416T121556Z
DTSTART:20260422T183000Z
DTEND:20260423T023000Z
LAST-MODIFIED:20260416T121556Z
LOCATION:Diffraction des Rayons X | PK-2370
ORGANIZER;CN=Maintenance NanoQAM:MAILTO:nanoqam@uqam.ca
STATUS:CONFIRMED
SUMMARY:Gwenael Chamoulaud
UID:69e0d2fc3caf8714647519&nanoqam.ca
SEQUENCE:0
URL:http://nanoqam.ca/booked/Web/reservation.php?rn=69e0d2fc3caf8714647519
X-MICROSOFT-CDO-BUSYSTATUS:BUSY
END:VEVENT
BEGIN:VEVENT
CLASS:PUBLIC
CREATED:20260413T185007Z
DESCRIPTION:Galyna Shul
DTSTAMP:20260413T185007Z
DTSTART:20260423T140000Z
DTEND:20260423T210000Z
LAST-MODIFIED:20260420T152011Z
LOCATION:Diffraction des Rayons X | PK-2370
ORGANIZER;CN=Maintenance NanoQAM:MAILTO:nanoqam@uqam.ca
STATUS:CONFIRMED
SUMMARY:Galyna Shul
UID:69dd3adef0e2c216629966&nanoqam.ca
SEQUENCE:0
URL:http://nanoqam.ca/booked/Web/reservation.php?rn=69dd3adef0e2c216629966
X-MICROSOFT-CDO-BUSYSTATUS:BUSY
END:VEVENT
BEGIN:VEVENT
CLASS:PUBLIC
CREATED:20260420T193530Z
DESCRIPTION:Du, Changyue
DTSTAMP:20260420T193530Z
DTSTART:20260424T133000Z
DTEND:20260424T153000Z
LAST-MODIFIED:20260420T193530Z
LOCATION:Diffraction des Rayons X | PK-2370
ORGANIZER;CN=Laboratoire Schougaard:MAILTO:schougaard.steen@uqam.ca
STATUS:CONFIRMED
SUMMARY:Du, Changyue
UID:69e68002126f0298669695&nanoqam.ca
SEQUENCE:0
URL:http://nanoqam.ca/booked/Web/reservation.php?rn=69e68002126f0298669695
X-MICROSOFT-CDO-BUSYSTATUS:BUSY
END:VEVENT
BEGIN:VEVENT
CLASS:PUBLIC
CREATED:20260420T184631Z
DESCRIPTION:Galyna Shul
DTSTAMP:20260420T184631Z
DTSTART:20260427T170000Z
DTEND:20260427T230000Z
LAST-MODIFIED:20260420T184641Z
LOCATION:Diffraction des Rayons X | PK-2370
ORGANIZER;CN=Maintenance NanoQAM:MAILTO:nanoqam@uqam.ca
STATUS:CONFIRMED
SUMMARY:Galyna Shul
UID:69e649890cd6b177202784&nanoqam.ca
SEQUENCE:0
URL:http://nanoqam.ca/booked/Web/reservation.php?rn=69e649890cd6b177202784
X-MICROSOFT-CDO-BUSYSTATUS:BUSY
END:VEVENT

END:VCALENDAR